BEGIN:VCALENDAR
VERSION:2.0
PRODID:-//pretix//Eventos_Almedina//
BEGIN:VTIMEZONE
TZID:Europe/London
BEGIN:STANDARD
DTSTART:20001029T030000
RRULE:FREQ=YEARLY;BYDAY=-1SU;BYMONTH=10
TZNAME:GMT
TZOFFSETFROM:+0100
TZOFFSETTO:+0000
END:STANDARD
BEGIN:DAYLIGHT
DTSTART:20000326T020000
RRULE:FREQ=YEARLY;BYDAY=-1SU;BYMONTH=3
TZNAME:BST
TZOFFSETFROM:+0000
TZOFFSETTO:+0100
END:DAYLIGHT
END:VTIMEZONE
BEGIN:VEVENT
UID:pretix-congressos-3CC-0@eventos.almedina.net
DTSTART;TZID=Europe/London:20241210T090000
DTEND;TZID=Europe/London:20241211T180000
DESCRIPTION:Bilhetes: https://eventos.almedina.net/congressos/3CC/\nOrganiz
 ador: Congressos Almedina
DTSTAMP:20260425T214343Z
LOCATION:Auditório PLMJ\, Av. Fontes Pereira de Melo 43\,\, 1050-119 Lisbo
 a
SUMMARY:3º Congresso de Direito da Construção
END:VEVENT
END:VCALENDAR
